BEGIN:VCALENDAR
VERSION:2.0
PRODID:-//Lurgybrack National School - ECPv6.15.20//NONSGML v1.0//EN
CALSCALE:GREGORIAN
METHOD:PUBLISH
X-ORIGINAL-URL:https://lurgybrackns.town.ie
X-WR-CALDESC:Events for Lurgybrack National School
REFRESH-INTERVAL;VALUE=DURATION:PT1H
X-Robots-Tag:noindex
X-PUBLISHED-TTL:PT1H
BEGIN:VTIMEZONE
TZID:UTC
BEGIN:STANDARD
TZOFFSETFROM:+0000
TZOFFSETTO:+0000
TZNAME:UTC
DTSTART:20160101T000000
END:STANDARD
END:VTIMEZONE
BEGIN:VEVENT
DTSTART;TZID=UTC:20171018T193000
DTEND;TZID=UTC:20171018T193000
DTSTAMP:20260423T073147
CREATED:20171012T122910Z
LAST-MODIFIED:20171012T122910Z
UID:3690-1508355000-1508355000@lurgybrackns.town.ie
SUMMARY:Parents' Committee AGM
DESCRIPTION:School Sports Hall
URL:https://lurgybrackns.town.ie/event/parents-committee-agm-2/
END:VEVENT
END:VCALENDAR