BEGIN:VCALENDAR
VERSION:2.0
PRODID:-//Lurgybrack National School - ECPv6.15.20//NONSGML v1.0//EN
CALSCALE:GREGORIAN
METHOD:PUBLISH
X-WR-CALNAME:Lurgybrack National School
X-ORIGINAL-URL:https://lurgybrackns.town.ie
X-WR-CALDESC:Events for Lurgybrack National School
REFRESH-INTERVAL;VALUE=DURATION:PT1H
X-Robots-Tag:noindex
X-PUBLISHED-TTL:PT1H
BEGIN:VTIMEZONE
TZID:UTC
BEGIN:STANDARD
TZOFFSETFROM:+0000
TZOFFSETTO:+0000
TZNAME:UTC
DTSTART:20150101T000000
END:STANDARD
END:VTIMEZONE
BEGIN:VEVENT
DTSTART;VALUE=DATE:20161125
DTEND;VALUE=DATE:20161126
DTSTAMP:20260426T023849
CREATED:20161121T102435Z
LAST-MODIFIED:20161121T102548Z
UID:1771-1480032000-1480118399@lurgybrackns.town.ie
SUMMARY:Red Day
DESCRIPTION:All pupils wear something red to school for Friendship/Anti-Bullying Week
URL:https://lurgybrackns.town.ie/event/red-day/
END:VEVENT
END:VCALENDAR